BEGIN:VCALENDAR
VERSION:2.0
PRODID:-//wp-events-plugin.com//7.2.3.1//EN
TZID:Europe/Paris
X-WR-TIMEZONE:Europe/Paris
BEGIN:VEVENT
UID:815@entre2eaux-plongee.bzh
DTSTART;TZID=Europe/Paris:20250830T084500
DTEND;TZID=Europe/Paris:20250830T153000
DTSTAMP:20250828T110811Z
URL:https://entre2eaux-plongee.bzh/evenements/sortie-apnee-journee/
SUMMARY:Sortie Apnée + RandoSub/ANNULE
DESCRIPTION:Départ de Locmiquélic à 9h et passage à Kernevel.\nCap sur 
 Groix pour une séance câble de maximum 1h30.\nRapide casse-croute sur le
  bateau pendant que l'on se rend vers un site pour une RandoSub.\nRetour d
 ans la rade vers 15h. Prévoyez un pique-nique à partager pour le retour.
 \nLe tarif est celui de 2 plongées bateau
ATTACH;FMTTYPE=image/jpeg:https://entre2eaux-plongee.bzh/wp-content/upload
 s/2025/05/WhatsApp-Image-2025-05-31-a-12.49.35_b3b91c0a.jpg
CATEGORIES:Apnée
LOCATION:Local club plongée\, Quai Rallier du Baty\, Locmiquélic\, Bretag
 ne\, 56570\, Morbihan\, France
GEO:47.724198;-3.351173
X-APPLE-STRUCTURED-LOCATION;VALUE=URI;X-ADDRESS=Quai Rallier du Baty\, Locm
 iquélic\, Bretagne\, 56570\, Morbihan\, France;X-APPLE-RADIUS=100;X-TITLE
 =Local club plongée:geo:47.724198,-3.351173
END:VEVENT
BEGIN:VTIMEZONE
TZID:Europe/Paris
X-LIC-LOCATION:Europe/Paris
BEGIN:DAYLIGHT
DTSTART:20250330T030000
TZOFFSETFROM:+0100
TZOFFSETTO:+0200
TZNAME:CEST
END:DAYLIGHT
END:VTIMEZONE
END:VCALENDAR