BEGIN:VCALENDAR
VERSION:2.0
PRODID:-//wp-events-plugin.com//7.2.3.1//EN
TZID:Europe/Paris
X-WR-TIMEZONE:Europe/Paris
BEGIN:VEVENT
UID:433@entre2eaux-plongee.bzh
DTSTART;TZID=Europe/Paris:20230620T180000
DTEND;TZID=Europe/Paris:20230620T220000
DTSTAMP:20230604T102336Z
URL:https://entre2eaux-plongee.bzh/evenements/sortie-apnee-autonome-n2-n3-
 4/
SUMMARY:Sortie apnée + autonome N2/N3
DESCRIPTION:Sortie apnée + autonome N2 et N3 pas d'enseignements.\n\nRdv 1
 8h au club. Inscription sur le site.
ATTACH;FMTTYPE=image/jpeg:https://entre2eaux-plongee.bzh/wp-content/upload
 s/2021/06/DSC09395-01.jpeg
CATEGORIES:Apnée,Explo P1 minimum
LOCATION:Local club plongée\, Quai Rallier du Baty\, Locmiquélic\, Bretag
 ne\, 56570\, Morbihan\, France
GEO:47.724198;-3.351173
X-APPLE-STRUCTURED-LOCATION;VALUE=URI;X-ADDRESS=Quai Rallier du Baty\, Locm
 iquélic\, Bretagne\, 56570\, Morbihan\, France;X-APPLE-RADIUS=100;X-TITLE
 =Local club plongée:geo:47.724198,-3.351173
END:VEVENT
BEGIN:VTIMEZONE
TZID:Europe/Paris
X-LIC-LOCATION:Europe/Paris
BEGIN:DAYLIGHT
DTSTART:20230326T030000
TZOFFSETFROM:+0100
TZOFFSETTO:+0200
TZNAME:CEST
END:DAYLIGHT
END:VTIMEZONE
END:VCALENDAR