BEGIN:VCALENDAR
VERSION:2.0
PRODID:-//wp-events-plugin.com//7.2.3.1//EN
TZID:Europe/Paris
X-WR-TIMEZONE:Europe/Paris
BEGIN:VEVENT
UID:814@entre2eaux-plongee.bzh
DTSTART;TZID=Europe/Paris:20250722T181500
DTEND;TZID=Europe/Paris:20250722T221500
DTSTAMP:20250722T113829Z
URL:https://entre2eaux-plongee.bzh/evenements/sortie-apnee-5-avec-pap-2/
SUMMARY:Sortie apnée #7 avec PAP
DESCRIPTION:Si un pilote est disponible départ Ste-Catherine 18h30 / escal
 e à Kernével à 18h45\, sinon une RandoSub sera organisée du côté de 
 la métropole Lorientaise.\n\nPré-requis : être équipé d'une combinais
 on épaisse avec cagoule\, idéalement avec chaussons+gants en neoprenne p
 our les premières sorties de l'année où l'eau est encore assez fraîche
 \, on peut s'arranger pour fournir ceinture+lest. Prenez également palmes
 \, masque\, tuba et une gourde d'eau.\n\nN'oubliez pas de prendre un casse
  croute collectif pour le retour \;)\n\nPrenez votre licence et votre CACI
  si c'est votre première sortie apnée en mer avec nous de l'année.\n\nM
 erci de lire les cours sur les sorties en mer et les risques\, surtout leu
 rs prévention\, du milieu naturel avant de vous inscrire.
ATTACH;FMTTYPE=image/jpeg:https://entre2eaux-plongee.bzh/wp-content/upload
 s/2025/05/ankita-1.jpg
CATEGORIES:Apnée
LOCATION:Local club plongée\, Quai Rallier du Baty\, Locmiquélic\, Bretag
 ne\, 56570\, Morbihan\, France
GEO:47.724198;-3.351173
X-APPLE-STRUCTURED-LOCATION;VALUE=URI;X-ADDRESS=Quai Rallier du Baty\, Locm
 iquélic\, Bretagne\, 56570\, Morbihan\, France;X-APPLE-RADIUS=100;X-TITLE
 =Local club plongée:geo:47.724198,-3.351173
END:VEVENT
BEGIN:VTIMEZONE
TZID:Europe/Paris
X-LIC-LOCATION:Europe/Paris
BEGIN:DAYLIGHT
DTSTART:20250330T030000
TZOFFSETFROM:+0100
TZOFFSETTO:+0200
TZNAME:CEST
END:DAYLIGHT
END:VTIMEZONE
END:VCALENDAR