BEGIN:VCALENDAR
VERSION:2.0
PRODID:-//wp-events-plugin.com//7.2.3.1//EN
TZID:Europe/Paris
X-WR-TIMEZONE:Europe/Paris
BEGIN:VEVENT
UID:342@entre2eaux-plongee.bzh
DTSTART;TZID=Europe/Paris:20230122T090000
DTEND;TZID=Europe/Paris:20230122T123000
DTSTAMP:20230121T165247Z
URL:https://entre2eaux-plongee.bzh/evenements/rifap-cas-concrets-dans-leau
 -et-sur-le-bateau/
SUMMARY:REPORT /// RIFAP/RIFAA cas concrets dans l'eau et sur le bateau
DESCRIPTION:Réagir et Intervenir Face à un Accident de Plongée / d'Apné
 e\nObligatoire pour préparer le niveau 3 mais fortement conseillé pour t
 out plongeur ...\n\nNe pas oublier une fois inscrit d'aller payer la forma
 tion RIFAP à 40€ pour les adhérents (carte à 12€ et repas compris) 
 en cliquant ICI
ATTACH;FMTTYPE=image/jpeg:https://entre2eaux-plongee.bzh/wp-content/upload
 s/2021/06/rifap.jpg
CATEGORIES:Formation théorique,Rifa Apnée-Plongée
LOCATION:Local club plongée\, Quai Rallier du Baty\, Locmiquélic\, Bretag
 ne\, 56570\, Morbihan\, France
GEO:47.724198;-3.351173
X-APPLE-STRUCTURED-LOCATION;VALUE=URI;X-ADDRESS=Quai Rallier du Baty\, Locm
 iquélic\, Bretagne\, 56570\, Morbihan\, France;X-APPLE-RADIUS=100;X-TITLE
 =Local club plongée:geo:47.724198,-3.351173
END:VEVENT
BEGIN:VTIMEZONE
TZID:Europe/Paris
X-LIC-LOCATION:Europe/Paris
BEGIN:STANDARD
DTSTART:20221030T020000
TZOFFSETFROM:+0200
TZOFFSETTO:+0100
TZNAME:CET
END:STANDARD
END:VTIMEZONE
END:VCALENDAR