BEGIN:VCALENDAR
VERSION:2.0
PRODID:-//wp-events-plugin.com//7.2.3.1//EN
TZID:Europe/Paris
X-WR-TIMEZONE:Europe/Paris
BEGIN:VEVENT
UID:374@entre2eaux-plongee.bzh
DTSTART;TZID=Europe/Paris:20230210T203000
DTEND;TZID=Europe/Paris:20230210T213000
DTSTAMP:20230205T164205Z
URL:https://entre2eaux-plongee.bzh/evenements/reunion-pour-le-choix-du-voy
 age-doctobre/
SUMMARY:Réunion pour le choix du voyage d'octobre
DESCRIPTION:Bonjour\, je vous propose une réunion pour le choix du voyage 
 d'octobre\, rdv vendredi soir à 20:30
ATTACH;FMTTYPE=image/jpeg:https://entre2eaux-plongee.bzh/wp-content/upload
 s/2022/10/IMG-20221027-WA0054.jpg
CATEGORIES:Réunion
LOCATION:Local club plongée\, Quai Rallier du Baty\, Locmiquélic\, Bretag
 ne\, 56570\, Morbihan\, France
GEO:47.724198;-3.351173
X-APPLE-STRUCTURED-LOCATION;VALUE=URI;X-ADDRESS=Quai Rallier du Baty\, Locm
 iquélic\, Bretagne\, 56570\, Morbihan\, France;X-APPLE-RADIUS=100;X-TITLE
 =Local club plongée:geo:47.724198,-3.351173
END:VEVENT
BEGIN:VTIMEZONE
TZID:Europe/Paris
X-LIC-LOCATION:Europe/Paris
BEGIN:STANDARD
DTSTART:20221030T020000
TZOFFSETFROM:+0200
TZOFFSETTO:+0100
TZNAME:CET
END:STANDARD
END:VTIMEZONE
END:VCALENDAR