BEGIN:VCALENDAR
VERSION:2.0
PRODID:-//wp-events-plugin.com//7.2.3.1//EN
TZID:Europe/Paris
X-WR-TIMEZONE:Europe/Paris
BEGIN:VEVENT
UID:597@entre2eaux-plongee.bzh
DTSTART;TZID=Europe/Paris:20240323T170000
DTEND;TZID=Europe/Paris:20240323T190000
DTSTAMP:20240323T104711Z
URL:https://entre2eaux-plongee.bzh/evenements/plongee-vieux-passage-n3-seu
 lement/
SUMMARY:plongée vieux passage N3 seulement
DESCRIPTION:Bonjour\,\n\nPlongée au vieux passage ouverte uniquement à pa
 rtir du niveau 3.\n\nRdv au vieux passage à 16h30\, Mise à l'eau vers 17
 h\n\nAdhesion\, licence et Caci à jour imperarif\n\nSi besoin de récupé
 rer du materiel au club avant\, merci de me contacter 06 86 64 16 39\n\nA 
 bientot
CATEGORIES:Explo P1 minimum
LOCATION:Local club plongée\, Quai Rallier du Baty\, Locmiquélic\, Bretag
 ne\, 56570\, Morbihan\, France
GEO:47.724198;-3.351173
X-APPLE-STRUCTURED-LOCATION;VALUE=URI;X-ADDRESS=Quai Rallier du Baty\, Locm
 iquélic\, Bretagne\, 56570\, Morbihan\, France;X-APPLE-RADIUS=100;X-TITLE
 =Local club plongée:geo:47.724198,-3.351173
END:VEVENT
BEGIN:VTIMEZONE
TZID:Europe/Paris
X-LIC-LOCATION:Europe/Paris
BEGIN:STANDARD
DTSTART:20231029T020000
TZOFFSETFROM:+0200
TZOFFSETTO:+0100
TZNAME:CET
END:STANDARD
END:VTIMEZONE
END:VCALENDAR