BEGIN:VCALENDAR
VERSION:2.0
PRODID:-//wp-events-plugin.com//7.2.3.1//EN
TZID:Europe/Paris
X-WR-TIMEZONE:Europe/Paris
BEGIN:VEVENT
UID:688@entre2eaux-plongee.bzh
DTSTART;TZID=Europe/Paris:20241110T113000
DTEND;TZID=Europe/Paris:20241110T140000
DTSTAMP:20241109T095244Z
URL:https://entre2eaux-plongee.bzh/evenements/plongee-vieux-passage-demain
 -dimanche/
SUMMARY:Plongée vieux passage demain dimanche
DESCRIPTION:Salut les bulleurs\,\n\n&nbsp\;\n\nPetit coef\, bonne météo\,
  je vous propose une plongée au vieux passage demain.\n\nRendez-vous au c
 lub à 11h30\, départ 11h45 pour une mise à l'eau à  12h45 après brie
 fing et équipement\n\nL'eau est à 15°\, gants chaussons cagoule\, therm
 os de boisson chaude\, bonnet...\n\nTous niveaux suivant encadrement\, je 
 serai en recycleur (besoin de faire des heures) je ne peux encadrer que de
 s N1 aguerris.\n\nNico
ATTACH;FMTTYPE=image/jpeg:https://entre2eaux-plongee.bzh/wp-content/upload
 s/2024/07/p7060156-scaled.jpg
CATEGORIES:Explo P1 minimum
LOCATION:Local club plongée\, Quai Rallier du Baty\, Locmiquélic\, Bretag
 ne\, 56570\, Morbihan\, France
GEO:47.724198;-3.351173
X-APPLE-STRUCTURED-LOCATION;VALUE=URI;X-ADDRESS=Quai Rallier du Baty\, Locm
 iquélic\, Bretagne\, 56570\, Morbihan\, France;X-APPLE-RADIUS=100;X-TITLE
 =Local club plongée:geo:47.724198,-3.351173
END:VEVENT
BEGIN:VTIMEZONE
TZID:Europe/Paris
X-LIC-LOCATION:Europe/Paris
BEGIN:STANDARD
DTSTART:20241027T020000
TZOFFSETFROM:+0200
TZOFFSETTO:+0100
TZNAME:CET
END:STANDARD
END:VTIMEZONE
END:VCALENDAR