BEGIN:VCALENDAR
VERSION:2.0
PRODID:-//wp-events-plugin.com//7.2.3.1//EN
TZID:Europe/Paris
X-WR-TIMEZONE:Europe/Paris
BEGIN:VEVENT
UID:623@entre2eaux-plongee.bzh
DTSTART;TZID=Europe/Paris:20240609T080000
DTEND;TZID=Europe/Paris:20240609T120000
DTSTAMP:20240607T114247Z
URL:https://entre2eaux-plongee.bzh/evenements/plongee-sur-le-u-171/
SUMMARY:Plongée sur le u 171
DESCRIPTION:Bonjour à tous\, je vous propose une plongée sur le sous mari
 n\, dimanche rdv au club à 8:00\, niveaux 2 minimum\, inscription sur le 
 site .\n\nSubaquatiquement.
ATTACH;FMTTYPE=image/jpeg:https://entre2eaux-plongee.bzh/wp-content/upload
 s/2023/07/DSC04445-scaled.jpg
CATEGORIES:Explo P2 minimum
END:VEVENT
BEGIN:VTIMEZONE
TZID:Europe/Paris
X-LIC-LOCATION:Europe/Paris
BEGIN:DAYLIGHT
DTSTART:20240331T030000
TZOFFSETFROM:+0100
TZOFFSETTO:+0200
TZNAME:CEST
END:DAYLIGHT
END:VTIMEZONE
END:VCALENDAR