BEGIN:VCALENDAR
VERSION:2.0
PRODID:-//wp-events-plugin.com//7.2.3.1//EN
TZID:Europe/Paris
X-WR-TIMEZONE:Europe/Paris
BEGIN:VEVENT
UID:430@entre2eaux-plongee.bzh
DTSTART;TZID=Europe/Paris:20230601T180000
DTEND;TZID=Europe/Paris:20230601T220000
DTSTAMP:20230531T085416Z
URL:https://entre2eaux-plongee.bzh/evenements/plongee-sur-le-locqueltas-n2
 -minimum-2/
SUMMARY:Plongée sur le locqueltas N2 minimum
DESCRIPTION:Je propose exceptionnellement une plongée jeudi soir.\n\n2 plo
 ngées\,\n\n1.sur le ty erwin pour récupérer un grappin. Seulement 1 pal
 anquée.\n\n2 .plongée principale sur le locqueltas et on en profitera po
 ur récupérer l'ancre.\n\nRdv à 18h au club\, n2 minimum
CATEGORIES:Explo P1 minimum
LOCATION:Local club plongée\, Quai Rallier du Baty\, Locmiquélic\, Bretag
 ne\, 56570\, Morbihan\, France
GEO:47.724198;-3.351173
X-APPLE-STRUCTURED-LOCATION;VALUE=URI;X-ADDRESS=Quai Rallier du Baty\, Locm
 iquélic\, Bretagne\, 56570\, Morbihan\, France;X-APPLE-RADIUS=100;X-TITLE
 =Local club plongée:geo:47.724198,-3.351173
END:VEVENT
BEGIN:VTIMEZONE
TZID:Europe/Paris
X-LIC-LOCATION:Europe/Paris
BEGIN:DAYLIGHT
DTSTART:20230326T030000
TZOFFSETFROM:+0100
TZOFFSETTO:+0200
TZNAME:CEST
END:DAYLIGHT
END:VTIMEZONE
END:VCALENDAR