BEGIN:VCALENDAR
VERSION:2.0
PRODID:-//wp-events-plugin.com//7.2.3.1//EN
TZID:Europe/Paris
X-WR-TIMEZONE:Europe/Paris
BEGIN:VEVENT
UID:792@entre2eaux-plongee.bzh
DTSTART;TZID=Europe/Paris:20250611T183000
DTEND;TZID=Europe/Paris:20250611T231500
DTSTAMP:20250611T115104Z
URL:https://entre2eaux-plongee.bzh/evenements/plongee-sur-le-cyrano-4/
SUMMARY:Plongée sur le Cyrano
DESCRIPTION:Bonjour\, je vous propose une plongée sur le Cyrano\, rdv au c
 lub à 18:30\, mercredi\, tous niveaux\, inscription sur le site.
ATTACH;FMTTYPE=image/jpeg:https://entre2eaux-plongee.bzh/wp-content/upload
 s/2025/05/WhatsApp-Image-2025-05-31-a-12.49.28_fc88268b.jpg
CATEGORIES:Explo P1 minimum
LOCATION:Local club plongée\, Quai Rallier du Baty\, Locmiquélic\, Bretag
 ne\, 56570\, Morbihan\, France
GEO:47.724198;-3.351173
X-APPLE-STRUCTURED-LOCATION;VALUE=URI;X-ADDRESS=Quai Rallier du Baty\, Locm
 iquélic\, Bretagne\, 56570\, Morbihan\, France;X-APPLE-RADIUS=100;X-TITLE
 =Local club plongée:geo:47.724198,-3.351173
END:VEVENT
BEGIN:VTIMEZONE
TZID:Europe/Paris
X-LIC-LOCATION:Europe/Paris
BEGIN:DAYLIGHT
DTSTART:20250330T030000
TZOFFSETFROM:+0100
TZOFFSETTO:+0200
TZNAME:CEST
END:DAYLIGHT
END:VTIMEZONE
END:VCALENDAR