BEGIN:VCALENDAR
VERSION:2.0
PRODID:-//wp-events-plugin.com//7.2.3.1//EN
TZID:Europe/Paris
X-WR-TIMEZONE:Europe/Paris
BEGIN:VEVENT
UID:629@entre2eaux-plongee.bzh
DTSTART;TZID=Europe/Paris:20240612T181500
DTEND;TZID=Europe/Paris:20240612T224500
DTSTAMP:20240611T174517Z
URL:https://entre2eaux-plongee.bzh/evenements/plongee-sur-le-cyrano-3/
SUMMARY:Annulation de la plongée sur le cyrano
DESCRIPTION:Bonjour\, je vous propose une plongée sur le Cyrano\, rdv au c
 lub mercredi  soir à 18h15\, tous niveaux \, inscription sur le site.
ATTACH;FMTTYPE=image/jpeg:https://entre2eaux-plongee.bzh/wp-content/upload
 s/2024/06/dsc05203-scaled.jpg
CATEGORIES:Avec prépa N1,Avec prépa N2-N3,Explo P1 minimum
END:VEVENT
BEGIN:VTIMEZONE
TZID:Europe/Paris
X-LIC-LOCATION:Europe/Paris
BEGIN:DAYLIGHT
DTSTART:20240331T030000
TZOFFSETFROM:+0100
TZOFFSETTO:+0200
TZNAME:CEST
END:DAYLIGHT
END:VTIMEZONE
END:VCALENDAR