BEGIN:VCALENDAR
VERSION:2.0
PRODID:-//wp-events-plugin.com//7.2.3.1//EN
TZID:Europe/Paris
X-WR-TIMEZONE:Europe/Paris
BEGIN:VEVENT
UID:246@entre2eaux-plongee.bzh
DTSTART;TZID=Europe/Paris:20220702T090000
DTEND;TZID=Europe/Paris:20220702T130000
DTSTAMP:20220701T210802Z
URL:https://entre2eaux-plongee.bzh/evenements/plongee-sur-la-basse-de-groi
 x-n2-minimum/
SUMMARY:Plongée sur l'épave au canon N2 minimum
DESCRIPTION:Bonjour\, Je vous propose de plongée sur l'épave au canon le 
 matin du samedi 2 juillet.\n\nRdv à 9h au clubs N2 minimum\, inscription 
 sur le site.\n\nAlex
ATTACH;FMTTYPE=image/jpeg:https://entre2eaux-plongee.bzh/wp-content/upload
 s/2022/05/P5247326-01-1.jpeg
CATEGORIES:Explo P1 minimum,Explo P2 minimum
LOCATION:Local club plongée\, Quai Rallier du Baty\, Locmiquélic\, Bretag
 ne\, 56570\, Morbihan\, France
GEO:47.724198;-3.351173
X-APPLE-STRUCTURED-LOCATION;VALUE=URI;X-ADDRESS=Quai Rallier du Baty\, Locm
 iquélic\, Bretagne\, 56570\, Morbihan\, France;X-APPLE-RADIUS=100;X-TITLE
 =Local club plongée:geo:47.724198,-3.351173
END:VEVENT
BEGIN:VTIMEZONE
TZID:Europe/Paris
X-LIC-LOCATION:Europe/Paris
BEGIN:DAYLIGHT
DTSTART:20220327T030000
TZOFFSETFROM:+0100
TZOFFSETTO:+0200
TZNAME:CEST
END:DAYLIGHT
END:VTIMEZONE
END:VCALENDAR