BEGIN:VCALENDAR
VERSION:2.0
PRODID:-//wp-events-plugin.com//7.2.3.1//EN
TZID:Europe/Paris
X-WR-TIMEZONE:Europe/Paris
BEGIN:VEVENT
UID:966@entre2eaux-plongee.bzh
DTSTART;TZID=Europe/Paris:20260426T141500
DTEND;TZID=Europe/Paris:20260426T174500
DTSTAMP:20260425T183339Z
URL:https://entre2eaux-plongee.bzh/evenements/plongee-au-vieux-passage-25/
SUMMARY:Plongée au Vieux Passage
DESCRIPTION:Bonjour à tous\, je vous propose de plongée au vieux passage\
 , rdv au club a14:30\, inscription sur le site. Tous niveaux. Je bloque le
  nombre de places par rapport aux encadrants\, les autonomes peuvent venir
 \, m'envoyer un pouce de votre présence.
ATTACH;FMTTYPE=image/jpeg:https://entre2eaux-plongee.bzh/wp-content/upload
 s/2025/06/P6220142-scaled.jpg
CATEGORIES:Avec prépa N1,Avec prépa N2-N3,Explo P1 minimum
LOCATION:Local club plongée\, Quai Rallier du Baty\, Locmiquélic\, Bretag
 ne\, 56570\, Morbihan\, France
GEO:47.724198;-3.351173
X-APPLE-STRUCTURED-LOCATION;VALUE=URI;X-ADDRESS=Quai Rallier du Baty\, Locm
 iquélic\, Bretagne\, 56570\, Morbihan\, France;X-APPLE-RADIUS=100;X-TITLE
 =Local club plongée:geo:47.724198,-3.351173
END:VEVENT
BEGIN:VTIMEZONE
TZID:Europe/Paris
X-LIC-LOCATION:Europe/Paris
BEGIN:DAYLIGHT
DTSTART:20260329T030000
TZOFFSETFROM:+0100
TZOFFSETTO:+0200
TZNAME:CEST
END:DAYLIGHT
END:VTIMEZONE
END:VCALENDAR