BEGIN:VCALENDAR
VERSION:2.0
PRODID:-//wp-events-plugin.com//7.2.3.1//EN
TZID:Europe/Paris
X-WR-TIMEZONE:Europe/Paris
BEGIN:VEVENT
UID:836@entre2eaux-plongee.bzh
DTSTART;TZID=Europe/Paris:20250907T173000
DTEND;TZID=Europe/Paris:20250907T210000
DTSTAMP:20250906T074825Z
URL:https://entre2eaux-plongee.bzh/evenements/plongee-au-vieux-passage-22/
SUMMARY:Plongée au vieux passage
DESCRIPTION:Bonjour je vous propose une plongée au vieux passage\, rdv dim
 anche à 17:30\, tous niveaux\, inscription sur le site.
ATTACH;FMTTYPE=image/jpeg:https://entre2eaux-plongee.bzh/wp-content/upload
 s/2025/07/DSC06381-scaled.jpg
CATEGORIES:Explo P1 minimum
END:VEVENT
BEGIN:VTIMEZONE
TZID:Europe/Paris
X-LIC-LOCATION:Europe/Paris
BEGIN:DAYLIGHT
DTSTART:20250330T030000
TZOFFSETFROM:+0100
TZOFFSETTO:+0200
TZNAME:CEST
END:DAYLIGHT
END:VTIMEZONE
END:VCALENDAR