BEGIN:VCALENDAR
VERSION:2.0
PRODID:-//wp-events-plugin.com//7.2.3.1//EN
TZID:Europe/Paris
X-WR-TIMEZONE:Europe/Paris
BEGIN:VEVENT
UID:965@entre2eaux-plongee.bzh
DTSTART;TZID=Europe/Paris:20260425T131500
DTEND;TZID=Europe/Paris:20260425T131500
DTSTAMP:20260423T210347Z
URL:https://entre2eaux-plongee.bzh/evenements/plongee-au-point-lorois/
SUMMARY:Plongée au point Lorois
DESCRIPTION:Bonjour à tous\, je vous propose une plongée au pont Lorois\,
  rdv au club samedi à 13:15\, tous niveaux\, inscription sur le site.
ATTACH;FMTTYPE=image/jpeg:https://entre2eaux-plongee.bzh/wp-content/upload
 s/2026/04/image-1.png
CATEGORIES:Avec prépa N2-N3,Explo P1 minimum,Explo P2 minimum,Explo P3
 minimum
END:VEVENT
BEGIN:VTIMEZONE
TZID:Europe/Paris
X-LIC-LOCATION:Europe/Paris
BEGIN:DAYLIGHT
DTSTART:20260329T030000
TZOFFSETFROM:+0100
TZOFFSETTO:+0200
TZNAME:CEST
END:DAYLIGHT
END:VTIMEZONE
END:VCALENDAR