BEGIN:VCALENDAR
VERSION:2.0
PRODID:-//wp-events-plugin.com//7.2.3.1//EN
TZID:Europe/Paris
X-WR-TIMEZONE:Europe/Paris
BEGIN:VEVENT
UID:25@entre2eaux-plongee.bzh
DTSTART;TZID=Europe/Paris:20210326T154000
DTEND;TZID=Europe/Paris:20210326T180000
DTSTAMP:20210326T181100Z
URL:https://entre2eaux-plongee.bzh/evenements/plongee-au-magouer-vendredi/
SUMMARY:Plongée au Magouër vendredi
DESCRIPTION:rendez vous au club à 15h40 vendredi pour une mise à 16h40.\n
 \ninscription sur le site.
ATTACH;FMTTYPE=image/jpeg:https://entre2eaux-plongee.bzh/wp-content/upload
 s/2021/03/magouer-events.jpg
CATEGORIES:Baptême
LOCATION:Local club plongée\, Quai Rallier du Baty\, Locmiquélic\, Bretag
 ne\, 56570\, Morbihan\, France
GEO:47.724198;-3.351173
X-APPLE-STRUCTURED-LOCATION;VALUE=URI;X-ADDRESS=Quai Rallier du Baty\, Locm
 iquélic\, Bretagne\, 56570\, Morbihan\, France;X-APPLE-RADIUS=100;X-TITLE
 =Local club plongée:geo:47.724198,-3.351173
END:VEVENT
BEGIN:VTIMEZONE
TZID:Europe/Paris
X-LIC-LOCATION:Europe/Paris
BEGIN:STANDARD
DTSTART:20201025T020000
TZOFFSETFROM:+0200
TZOFFSETTO:+0100
TZNAME:CET
END:STANDARD
END:VTIMEZONE
END:VCALENDAR