BEGIN:VCALENDAR
VERSION:2.0
PRODID:-//wp-events-plugin.com//7.2.3.1//EN
TZID:Europe/Paris
X-WR-TIMEZONE:Europe/Paris
BEGIN:VEVENT
UID:419@entre2eaux-plongee.bzh
DTSTART;TZID=Europe/Paris:20230517T180000
DTEND;TZID=Europe/Paris:20230517T230000
DTSTAMP:20230514T132754Z
URL:https://entre2eaux-plongee.bzh/evenements/plongee-a-groix-tous-niveaux
 -3/
SUMMARY:Plongée à groix tous niveaux
DESCRIPTION:Bonjour\, je vous propose une plongée à groix pour tous nivea
 ux. La lampe est pas obligatoire mais conseillé.\n\nPrévoir un casse-cro
 ute et des vêtements chaud pour le retour.\n\nInscription sur le site !
ATTACH;FMTTYPE=image/jpeg:https://entre2eaux-plongee.bzh/wp-content/upload
 s/2023/04/P4280400-scaled.jpg
CATEGORIES:Explo P1 minimum
LOCATION:Local club plongée\, Quai Rallier du Baty\, Locmiquélic\, Bretag
 ne\, 56570\, Morbihan\, France
GEO:47.724198;-3.351173
X-APPLE-STRUCTURED-LOCATION;VALUE=URI;X-ADDRESS=Quai Rallier du Baty\, Locm
 iquélic\, Bretagne\, 56570\, Morbihan\, France;X-APPLE-RADIUS=100;X-TITLE
 =Local club plongée:geo:47.724198,-3.351173
END:VEVENT
BEGIN:VTIMEZONE
TZID:Europe/Paris
X-LIC-LOCATION:Europe/Paris
BEGIN:DAYLIGHT
DTSTART:20230326T030000
TZOFFSETFROM:+0100
TZOFFSETTO:+0200
TZNAME:CEST
END:DAYLIGHT
END:VTIMEZONE
END:VCALENDAR