BEGIN:VCALENDAR
VERSION:2.0
PRODID:-//wp-events-plugin.com//7.2.3.1//EN
TZID:Europe/Paris
X-WR-TIMEZONE:Europe/Paris
BEGIN:VEVENT
UID:835@entre2eaux-plongee.bzh
DTSTART;TZID=Europe/Paris:20250912T081500
DTEND;TZID=Europe/Paris:20250912T094500
DTSTAMP:20250910T100940Z
URL:https://entre2eaux-plongee.bzh/evenements/piscine-college-2025-2026-mo
 niteurs-et-collegiens-2/
SUMMARY:Piscine Collège (moniteurs et collégiens) #2
DESCRIPTION:Réservé aux Moniteurs &amp\; Collégiens pN1\n\n11 collégien
 (ne)s (3ième). Septembre 2025 à février 2026. Formation N1.\n2 groupes 
 en alternance séance Apnée/Scaphandre.\n8h40 à 9h20 dans l’eau. Cette
  séance sera orientée baptême.\n5 baptêmes à effectuer.\nChaque monit
 eur vient avec son scaphandre.\nChaque collégien vient avec son matériel
  PMT.\nListe des collégien(ne)s et fiches de suivi (à renseigner après 
 chaque séance) accessible sur demande.\n\nIndiquez en commentaire la part
 icipation à la logistique du matériel.
ATTACH;FMTTYPE=image/jpeg:https://entre2eaux-plongee.bzh/wp-content/upload
 s/2023/12/img-20231222-wa0005.jpg
CATEGORIES:Avec prépa N1,Piscine,Séance de Lanester
LOCATION:Piscine de Lanester\, rue René Cassin\, Lanester\, 56600\, Bretag
 ne\, France
GEO:47.763503;-3.351188
X-APPLE-STRUCTURED-LOCATION;VALUE=URI;X-ADDRESS=rue René Cassin\, Lanester
 \, 56600\, Bretagne\, France;X-APPLE-RADIUS=100;X-TITLE=Piscine de Laneste
 r:geo:47.763503,-3.351188
END:VEVENT
BEGIN:VTIMEZONE
TZID:Europe/Paris
X-LIC-LOCATION:Europe/Paris
BEGIN:DAYLIGHT
DTSTART:20250330T030000
TZOFFSETFROM:+0100
TZOFFSETTO:+0200
TZNAME:CEST
END:DAYLIGHT
END:VTIMEZONE
END:VCALENDAR