BEGIN:VCALENDAR
VERSION:2.0
PRODID:-//wp-events-plugin.com//7.2.3.1//EN
TZID:Europe/Paris
X-WR-TIMEZONE:Europe/Paris
BEGIN:VEVENT
UID:43@entre2eaux-plongee.bzh
DTSTART;TZID=Europe/Paris:20210428T173000
DTEND;TZID=Europe/Paris:20210428T184500
DTSTAMP:20210426T165441Z
URL:https://entre2eaux-plongee.bzh/evenements/nage-en-mer-4/
SUMMARY:Nage en mer
DESCRIPTION:Bonjour :)\n\nJe vous propose une  nage en mer mercredi à 17h
 30 rendez-vous devant les vestiaires de la capitainerie de Locmiquelic\n\n
 À plouf!
ATTACH;FMTTYPE=image/jpeg:https://entre2eaux-plongee.bzh/wp-content/upload
 s/2021/02/Nage-2020-7.jpg
CATEGORIES:Nage palmée en mer
LOCATION:Local club plongée\, Quai Rallier du Baty\, Locmiquélic\, Bretag
 ne\, 56570\, Morbihan\, France
GEO:47.724198;-3.351173
X-APPLE-STRUCTURED-LOCATION;VALUE=URI;X-ADDRESS=Quai Rallier du Baty\, Locm
 iquélic\, Bretagne\, 56570\, Morbihan\, France;X-APPLE-RADIUS=100;X-TITLE
 =Local club plongée:geo:47.724198,-3.351173
END:VEVENT
BEGIN:VTIMEZONE
TZID:Europe/Paris
X-LIC-LOCATION:Europe/Paris
BEGIN:DAYLIGHT
DTSTART:20210328T030000
TZOFFSETFROM:+0100
TZOFFSETTO:+0200
TZNAME:CEST
END:DAYLIGHT
END:VTIMEZONE
END:VCALENDAR