BEGIN:VCALENDAR
VERSION:2.0
PRODID:-//wp-events-plugin.com//7.2.3.1//EN
TZID:Europe/Paris
X-WR-TIMEZONE:Europe/Paris
BEGIN:VEVENT
UID:686@entre2eaux-plongee.bzh
DTSTART;TZID=Europe/Paris:20241110T100000
DTEND;TZID=Europe/Paris:20241110T120000
DTSTAMP:20241109T073803Z
URL:https://entre2eaux-plongee.bzh/evenements/nage-en-mer-11/
SUMMARY:Nage en mer
DESCRIPTION:Bonjour\, je vous propose de ce retrouver dimanche à 10h au cl
 ub pour une nage en mer\, ouvert à tous les adhérents qui ont leur équi
 pement.
ATTACH;FMTTYPE=image/jpeg:https://entre2eaux-plongee.bzh/wp-content/upload
 s/2024/05/stagejeunes017.jpg
CATEGORIES:Nage palmée en mer
LOCATION:Local club plongée\, Quai Rallier du Baty\, Locmiquélic\, Bretag
 ne\, 56570\, Morbihan\, France
GEO:47.724198;-3.351173
X-APPLE-STRUCTURED-LOCATION;VALUE=URI;X-ADDRESS=Quai Rallier du Baty\, Locm
 iquélic\, Bretagne\, 56570\, Morbihan\, France;X-APPLE-RADIUS=100;X-TITLE
 =Local club plongée:geo:47.724198,-3.351173
END:VEVENT
BEGIN:VTIMEZONE
TZID:Europe/Paris
X-LIC-LOCATION:Europe/Paris
BEGIN:STANDARD
DTSTART:20241027T020000
TZOFFSETFROM:+0200
TZOFFSETTO:+0100
TZNAME:CET
END:STANDARD
END:VTIMEZONE
END:VCALENDAR