BEGIN:VCALENDAR
VERSION:2.0
PRODID:-//wp-events-plugin.com//7.2.3.1//EN
TZID:Europe/Paris
X-WR-TIMEZONE:Europe/Paris
BEGIN:VEVENT
UID:912@entre2eaux-plongee.bzh
DTSTART;TZID=Europe/Paris:20260125T100000
DTEND;TZID=Europe/Paris:20260125T120000
DTSTAMP:20260125T142556Z
URL:https://entre2eaux-plongee.bzh/evenements/nage-du-dimanche-matin-locmi
 quelic-8/
SUMMARY:Nage du dimanche matin / Locmiquélic
DESCRIPTION:Bonjour\,\nNage PMT le long du brise clapot nord de St-Catherin
 e / Locmiquélic à l'extérieur du chenal.\nPour les courageuses/courageu
 x et habitué(e)s de cette pratique.\nRV 10h à l'endroit habituel.\nOn se
 ra après la marée haute (PM = 8h45 Coeff 68/64\, mi-marée à 12h35) : L
 e courant nous raménera sur le brise clapot. Il faut rester à l'extérie
 ur et au nord du chenal. Régate CNML.\nEau à 10/9°C ?\nN'oubliez pas de
  prendre de quoi vous hydrater avant et après.\n\nMaj 25 janvier 2026 : 2
  nageurs. Beau temps et mer calme. Air relevé à 12 °. Visibilité très
  faible &lt\; 40cm.
CATEGORIES:Autre événement,Nage palmée en mer
LOCATION:Capitainerie de Ste-Catherine\, Quai Rallier du Baty\, Locmiquéli
 c\, Bretagne\, 56570\, Morbihan\, France
GEO:47.72484;-3.348094
X-APPLE-STRUCTURED-LOCATION;VALUE=URI;X-ADDRESS=Quai Rallier du Baty\, Locm
 iquélic\, Bretagne\, 56570\, Morbihan\, France;X-APPLE-RADIUS=100;X-TITLE
 =Capitainerie de Ste-Catherine:geo:47.72484,-3.348094
END:VEVENT
BEGIN:VTIMEZONE
TZID:Europe/Paris
X-LIC-LOCATION:Europe/Paris
BEGIN:STANDARD
DTSTART:20251026T020000
TZOFFSETFROM:+0200
TZOFFSETTO:+0100
TZNAME:CET
END:STANDARD
END:VTIMEZONE
END:VCALENDAR