BEGIN:VCALENDAR
VERSION:2.0
PRODID:-//wp-events-plugin.com//7.2.3.1//EN
TZID:Europe/Paris
X-WR-TIMEZONE:Europe/Paris
BEGIN:VEVENT
UID:946@entre2eaux-plongee.bzh
DTSTART;TZID=Europe/Paris:20260315T100000
DTEND;TZID=Europe/Paris:20260315T120000
DTSTAMP:20260315T205534Z
URL:https://entre2eaux-plongee.bzh/evenements/nage-du-dimanche-matin-locmi
 quelic-15/
SUMMARY:Nage du dimanche matin / Locmiquélic
DESCRIPTION:Bonjour\,\nNage PMT le long du brise clapot nord de St-Catherin
 e / Locmiquélic à l'extérieur du chenal.\nPour les courageuses/courageu
 x et habitué(e)s de cette pratique.\nRV 10h à l'endroit habituel.\nOn se
 ra à marée montante juste à la mi-marée en fin de séance (BM = 8h36 m
 i-marée à 11h44 PM à 15h00 Coeff 42 -&gt\; 50) : Le courant devrait nou
 s éloigner du brise clapot. Il faut rester à l'extérieur et au nord du 
 chenal.\nPrévision à 2j : Nuageux\, Vent SO 8-&gt\;12 nd. Air à 10 -&gt
 \; 12°C. Eau à 11 °C ?\nN'oubliez pas de prendre de quoi vous hydrater 
 avant et après.\n\nCR : Beau temps mais frais. Eau à 10°C. 4 nageu[se|r
 ]s. Pas ou très peu de courant. Visibilité réduite (&lt\;0\,8m\, palmes
  non visibles).
ATTACH;FMTTYPE=image/jpeg:https://entre2eaux-plongee.bzh/wp-content/upload
 s/2025/07/P1050991-scaled.jpg
CATEGORIES:Autre événement,Nage palmée en mer
LOCATION:Capitainerie de Ste-Catherine\, Quai Rallier du Baty\, Locmiquéli
 c\, Bretagne\, 56570\, Morbihan\, France
GEO:47.72484;-3.348094
X-APPLE-STRUCTURED-LOCATION;VALUE=URI;X-ADDRESS=Quai Rallier du Baty\, Locm
 iquélic\, Bretagne\, 56570\, Morbihan\, France;X-APPLE-RADIUS=100;X-TITLE
 =Capitainerie de Ste-Catherine:geo:47.72484,-3.348094
END:VEVENT
BEGIN:VTIMEZONE
TZID:Europe/Paris
X-LIC-LOCATION:Europe/Paris
BEGIN:STANDARD
DTSTART:20251026T020000
TZOFFSETFROM:+0200
TZOFFSETTO:+0100
TZNAME:CET
END:STANDARD
END:VTIMEZONE
END:VCALENDAR