BEGIN:VCALENDAR
VERSION:2.0
PRODID:-//wp-events-plugin.com//7.2.3.1//EN
TZID:Europe/Paris
X-WR-TIMEZONE:Europe/Paris
BEGIN:VEVENT
UID:860@entre2eaux-plongee.bzh
DTSTART;TZID=Europe/Paris:20251026T100000
DTEND;TZID=Europe/Paris:20251026T121500
DTSTAMP:20251024T095836Z
URL:https://entre2eaux-plongee.bzh/evenements/nage-du-dimanche-4/
SUMMARY:Nage du dimanche
DESCRIPTION:Nage pmt\, rdv au club dimanche 10:00
ATTACH;FMTTYPE=image/jpeg:https://entre2eaux-plongee.bzh/wp-content/upload
 s/2025/10/nev.png
CATEGORIES:Nage palmée en mer
END:VEVENT
BEGIN:VTIMEZONE
TZID:Europe/Paris
X-LIC-LOCATION:Europe/Paris
BEGIN:STANDARD
DTSTART:20251026T020000
TZOFFSETFROM:+0200
TZOFFSETTO:+0100
TZNAME:CET
END:STANDARD
END:VTIMEZONE
END:VCALENDAR