BEGIN:VCALENDAR
VERSION:2.0
PRODID:-//wp-events-plugin.com//7.2.3.1//EN
TZID:Europe/Paris
X-WR-TIMEZONE:Europe/Paris
BEGIN:VEVENT
UID:791@entre2eaux-plongee.bzh
DTSTART;TZID=Europe/Paris:20250609T153000
DTEND;TZID=Europe/Paris:20250609T183000
DTSTAMP:20250609T111710Z
URL:https://entre2eaux-plongee.bzh/evenements/dae-lisere-plongee-3-2/
SUMMARY:DAE l'Isère : Plongée #3
DESCRIPTION:Bonjour\,\n\nDans le cadre du projet DAE l'Isère\, je propose 
 aux N3 mini une plongée exploration sur l'Isère ce lundi 9 juin 2025 à 
 la pleine mer de 16h38.\n\nInscription sur le site.\nRV à 15h30 au club.\
 nDépart du môle\, mise à l'eau peu avant 16h23 à affiner.\n\nSauf si p
 résence d'un DP [Explo] on est en co-responsabilité N3.\n\nLa plongée s
 era limitée à 4 palanquées de 2 et si nombre impair\, il y a aura une p
 alanquée de 3.\n\nIl s'agira de photographier/filmer des points remarquab
 les de l'épave.\n\nLa plongée est proposée en priorité aux participant
 s du projet DAE l'Isère\, mais tout membre du club (N3 mini) intéressé 
 ou non par ce projet peut participer à cette plongée.\n\nPour plus d'inf
 ormation lire l'article Projet DAE L’Isère : Appel à Volontaires\n\nOl
 ivier Déclaveillère
ATTACH;FMTTYPE=image/jpeg:https://entre2eaux-plongee.bzh/wp-content/upload
 s/2021/03/isere_transport_1866_lorient.jpg
CATEGORIES:Explo P3 minimum
LOCATION:Local club plongée\, Quai Rallier du Baty\, Locmiquélic\, Bretag
 ne\, 56570\, Morbihan\, France
GEO:47.724198;-3.351173
X-APPLE-STRUCTURED-LOCATION;VALUE=URI;X-ADDRESS=Quai Rallier du Baty\, Locm
 iquélic\, Bretagne\, 56570\, Morbihan\, France;X-APPLE-RADIUS=100;X-TITLE
 =Local club plongée:geo:47.724198,-3.351173
END:VEVENT
BEGIN:VTIMEZONE
TZID:Europe/Paris
X-LIC-LOCATION:Europe/Paris
BEGIN:DAYLIGHT
DTSTART:20250330T030000
TZOFFSETFROM:+0100
TZOFFSETTO:+0200
TZNAME:CEST
END:DAYLIGHT
END:VTIMEZONE
END:VCALENDAR