BEGIN:VCALENDAR
VERSION:2.0
PRODID:-//wp-events-plugin.com//7.2.3.1//EN
TZID:Europe/Paris
X-WR-TIMEZONE:Europe/Paris
BEGIN:VEVENT
UID:785@entre2eaux-plongee.bzh
DTSTART;TZID=Europe/Paris:20250604T113000
DTEND;TZID=Europe/Paris:20250604T150000
DTSTAMP:20250604T140340Z
URL:https://entre2eaux-plongee.bzh/evenements/dae-lisere-plongee-2/
SUMMARY:DAE l'Isère : Plongée #2
DESCRIPTION:Bonjour\,\n\nDans le cadre du projet DAE l'Isère\, je propose 
 aux N3 mini une plongée exploration sur l'Isère le mercredi 4 juin 2025 
 à la pleine mer de 12h47.\n\nInscription sur le site.\nRV à 11h30 au clu
 b.\nDépart du môle\, mise à l'eau peu avant 12h32 à affiner.\n\nLe DP 
 sera Stephan PONS.\n\nLa plongée sera limitée à 4 palanquées de 2 et s
 i nombre impair\, il y a aura une palanquée de 3.\n\nIl s'agira de photog
 raphier/filmer des détails autour du fémelot\, l'imbroglio de la partie 
 arrière\, filmer lentement le dessus de l'épave de l'arrière vers l'ava
 nt et inversement avec la caméra dirigée vers le bas.\n\nLa plongée est
  proposée en priorité aux participants du projet DAE l'Isère\, mais tou
 t membre du club (N3 mini) intéressé ou non par ce projet peut participe
 r à cette plongée.\n\nPour plus d'information lire l'article Projet DAE 
 L’Isère : Appel à Volontaires\n\nOlivier Déclaveillère
ATTACH;FMTTYPE=image/jpeg:https://entre2eaux-plongee.bzh/wp-content/upload
 s/2023/04/epave-isere.jpg
CATEGORIES:Explo P3 minimum
LOCATION:Local club plongée\, Quai Rallier du Baty\, Locmiquélic\, Bretag
 ne\, 56570\, Morbihan\, France
GEO:47.724198;-3.351173
X-APPLE-STRUCTURED-LOCATION;VALUE=URI;X-ADDRESS=Quai Rallier du Baty\, Locm
 iquélic\, Bretagne\, 56570\, Morbihan\, France;X-APPLE-RADIUS=100;X-TITLE
 =Local club plongée:geo:47.724198,-3.351173
END:VEVENT
BEGIN:VTIMEZONE
TZID:Europe/Paris
X-LIC-LOCATION:Europe/Paris
BEGIN:DAYLIGHT
DTSTART:20250330T030000
TZOFFSETFROM:+0100
TZOFFSETTO:+0200
TZNAME:CEST
END:DAYLIGHT
END:VTIMEZONE
END:VCALENDAR