BEGIN:VCALENDAR
VERSION:2.0
PRODID:-//wp-events-plugin.com//7.2.3.1//EN
TZID:Europe/Paris
X-WR-TIMEZONE:Europe/Paris
BEGIN:VEVENT
UID:731@entre2eaux-plongee.bzh
DTSTART;TZID=Europe/Paris:20250210T201500
DTEND;TZID=Europe/Paris:20250210T221500
DTSTAMP:20250207T153627Z
URL:https://entre2eaux-plongee.bzh/evenements/cours-theorique-apneiste-pis
 cine-1-piscine-fermee/
SUMMARY:Cours théorique apnéiste #1 (piscine fermée)
DESCRIPTION:Bonjour les apnéistes\,\n\nLa piscine étant fermée le lundi 
 10 février\, nous proposons de faire un cours théorique au local du CIBP
 L.\n\nLe rendez-vous est fixé à 20h15 et le cours durera 1h30.\n\nIl aur
 a lieu au 39 Rue de la Villeneuve\, Ctre d'Affaires la Découverte bat 1\,
  56100 Lorient\n\nCe cours fait partie de la formation Apnéiste Piscine e
 n cours. Un rattrapage sera organisé si vous ne pouvez pas être présent
 .
ATTACH;FMTTYPE=image/jpeg:https://entre2eaux-plongee.bzh/wp-content/upload
 s/2024/12/monopalme.png
CATEGORIES:Apnée,Formation théorique
LOCATION:Local du CIBPL\, 39 rue de la Villeneuve\, LORIENT\, Morbihan\, 56
 100\, Bretagne\, France
X-APPLE-STRUCTURED-LOCATION;VALUE=URI;X-ADDRESS=39 rue de la Villeneuve\, L
 ORIENT\, Morbihan\, 56100\, Bretagne\, France;X-APPLE-RADIUS=100;X-TITLE=L
 ocal du CIBPL:geo:0,0
END:VEVENT
BEGIN:VTIMEZONE
TZID:Europe/Paris
X-LIC-LOCATION:Europe/Paris
BEGIN:STANDARD
DTSTART:20241027T020000
TZOFFSETFROM:+0200
TZOFFSETTO:+0100
TZNAME:CET
END:STANDARD
END:VTIMEZONE
END:VCALENDAR