BEGIN:VCALENDAR
VERSION:2.0
PRODID:-//wp-events-plugin.com//7.2.3.1//EN
TZID:Europe/Paris
X-WR-TIMEZONE:Europe/Paris
BEGIN:VEVENT
UID:518@entre2eaux-plongee.bzh
DTSTART;TZID=Europe/Paris:20231120T190000
DTEND;TZID=Europe/Paris:20231120T203000
DTSTAMP:20231118T191217Z
URL:https://entre2eaux-plongee.bzh/evenements/cours-theorie-niveau-2-ouver
 t-a-tous-theorie-de-lactivite-physique/
SUMMARY:Cours théorie niveau 2 (ouvert à tous) : Théorie de l'activité 
 (physique)
DESCRIPTION:Salut les bulleurs\n\nCours de théorie physique pour les PN2 (
 présence nécessaire)\n\nOuvert à tous si vous êtes curieux (PN1- N1) o
 u que vous voulez réviser (N2 ou plus)\n\nVous pouvez apporter un pique n
 ique pour manger pendant le cours  ^^\n\nLe cours commence à 19h au club
  donc prévoyez de venir avant... on pourra enchainer avec la piscine\n\nN
 'hésitez pas à me contacter pour toute info\n\nNico
ATTACH;FMTTYPE=image/jpeg:https://entre2eaux-plongee.bzh/wp-content/upload
 s/2023/10/whatsapp-image-2023-10-31-a-17-42-14-df600eb3.jpg
CATEGORIES:Formation théorique,théorie niveau 2
LOCATION:Local club plongée\, Quai Rallier du Baty\, Locmiquélic\, Bretag
 ne\, 56570\, Morbihan\, France
GEO:47.724198;-3.351173
X-APPLE-STRUCTURED-LOCATION;VALUE=URI;X-ADDRESS=Quai Rallier du Baty\, Locm
 iquélic\, Bretagne\, 56570\, Morbihan\, France;X-APPLE-RADIUS=100;X-TITLE
 =Local club plongée:geo:47.724198,-3.351173
END:VEVENT
BEGIN:VTIMEZONE
TZID:Europe/Paris
X-LIC-LOCATION:Europe/Paris
BEGIN:STANDARD
DTSTART:20231029T020000
TZOFFSETFROM:+0200
TZOFFSETTO:+0100
TZNAME:CET
END:STANDARD
END:VTIMEZONE
END:VCALENDAR