BEGIN:VCALENDAR
VERSION:2.0
PRODID:-//wp-events-plugin.com//7.2.3.1//EN
TZID:Europe/Paris
X-WR-TIMEZONE:Europe/Paris
BEGIN:VEVENT
UID:416@entre2eaux-plongee.bzh
DTSTART;TZID=Europe/Paris:20230508T200000
DTEND;TZID=Europe/Paris:20230508T213000
DTSTAMP:20230501T161941Z
URL:https://entre2eaux-plongee.bzh/evenements/cours-bio-decouverte-de-la-v
 ie-sous-marine/
SUMMARY:Cours bio\, decouverte de la vie sous marine
DESCRIPTION:Ce soir découverte des echinodermes et vers !\n\nInscription s
 ur le site\, merci
ATTACH;FMTTYPE=image/jpeg:https://entre2eaux-plongee.bzh/wp-content/upload
 s/2022/10/P1010294-e1665588350277.jpg
CATEGORIES:Biologie,Formation théorique
LOCATION:Local club plongée\, Quai Rallier du Baty\, Locmiquélic\, Bretag
 ne\, 56570\, Morbihan\, France
GEO:47.724198;-3.351173
X-APPLE-STRUCTURED-LOCATION;VALUE=URI;X-ADDRESS=Quai Rallier du Baty\, Locm
 iquélic\, Bretagne\, 56570\, Morbihan\, France;X-APPLE-RADIUS=100;X-TITLE
 =Local club plongée:geo:47.724198,-3.351173
END:VEVENT
BEGIN:VTIMEZONE
TZID:Europe/Paris
X-LIC-LOCATION:Europe/Paris
BEGIN:DAYLIGHT
DTSTART:20230326T030000
TZOFFSETFROM:+0100
TZOFFSETTO:+0200
TZNAME:CEST
END:DAYLIGHT
END:VTIMEZONE
END:VCALENDAR