BEGIN:VCALENDAR
VERSION:2.0
PRODID:-//wp-events-plugin.com//7.2.3.1//EN
TZID:Europe/Paris
X-WR-TIMEZONE:Europe/Paris
BEGIN:VEVENT
UID:413@entre2eaux-plongee.bzh
DTSTART;TZID=Europe/Paris:20230503T200000
DTEND;TZID=Europe/Paris:20230503T213000
DTSTAMP:20230422T165749Z
URL:https://entre2eaux-plongee.bzh/evenements/cour-theorique-lorganisation
 -dune-plongee/
SUMMARY:Cour théorique\, l'organisation d'une plongée
DESCRIPTION:Bonjour je propose un cour sur l'organisation d'une plongée\,\
 n\nPrincipalement concerné les PN3\, mais si il y a des curieux\, ils son
 t les bienvenus.\n\n&nbsp\;\n\nRdv 20h au club
CATEGORIES:Formation théorique
LOCATION:Local club plongée\, Quai Rallier du Baty\, Locmiquélic\, Bretag
 ne\, 56570\, Morbihan\, France
GEO:47.724198;-3.351173
X-APPLE-STRUCTURED-LOCATION;VALUE=URI;X-ADDRESS=Quai Rallier du Baty\, Locm
 iquélic\, Bretagne\, 56570\, Morbihan\, France;X-APPLE-RADIUS=100;X-TITLE
 =Local club plongée:geo:47.724198,-3.351173
END:VEVENT
BEGIN:VTIMEZONE
TZID:Europe/Paris
X-LIC-LOCATION:Europe/Paris
BEGIN:DAYLIGHT
DTSTART:20230326T030000
TZOFFSETFROM:+0100
TZOFFSETTO:+0200
TZNAME:CEST
END:DAYLIGHT
END:VTIMEZONE
END:VCALENDAR