BEGIN:VCALENDAR
VERSION:2.0
PRODID:-//wp-events-plugin.com//7.2.3.1//EN
TZID:Europe/Paris
X-WR-TIMEZONE:Europe/Paris
BEGIN:VEVENT
UID:858@entre2eaux-plongee.bzh
DTSTART;TZID=Europe/Paris:20251128T190000
DTEND;TZID=Europe/Paris:20251128T220000
DTSTAMP:20251122T115641Z
URL:https://entre2eaux-plongee.bzh/evenements/assemblee-generale-du-club-3
 /
SUMMARY:Assemblée générale du club
DESCRIPTION:Comme toute association régie par la loi de 1901\, il est néc
 essaire de réunir l'ensemble des adhérents du club à jour de leur cotis
 ation pour faire le bilan de la saison passée et surtout envisager la sai
 son future (déjà commencée). Comme nous sommes affiliés à la FFESSM\,
  cette AG a lieu avant l'AG nationale du 6 et 7 décembre 2025.\n\nSi tu n
 e peux pas venir\, envoie ta procuration en utilisant le formulaire que tu
  as reçu par mail Assemblée générale 2025 – ENTRE 2 EAUX – Locmiqu
 élic
ATTACH;FMTTYPE=image/jpeg:https://entre2eaux-plongee.bzh/wp-content/upload
 s/2023/11/20231110-194425-scaled.jpg
CATEGORIES:AG
LOCATION:Salle Artimon\, Pl. Jean Jaurès\, Locmiquélic\, Morbihan\, 56570
 \, Bretagne\, France
X-APPLE-STRUCTURED-LOCATION;VALUE=URI;X-ADDRESS=Pl. Jean Jaurès\, Locmiqu
 élic\, Morbihan\, 56570\, Bretagne\, France;X-APPLE-RADIUS=100;X-TITLE=Sa
 lle Artimon:geo:0,0
END:VEVENT
BEGIN:VTIMEZONE
TZID:Europe/Paris
X-LIC-LOCATION:Europe/Paris
BEGIN:STANDARD
DTSTART:20251026T020000
TZOFFSETFROM:+0200
TZOFFSETTO:+0100
TZNAME:CET
END:STANDARD
END:VTIMEZONE
END:VCALENDAR